BEGIN:VCALENDAR
VERSION:2.0
PRODID:-//Ekolist.cz//NONSGML Ekolist Calendar Export 1.0//CS
CALSCALE:GREGORIAN
METHOD:PUBLISH
X-WR-CALNAME:Ekolist - Akce
X-WR-CALDESC:Akce
X-ORIGINAL-URL:https://ekolist.cz/cz/kalendar-akci
BEGIN:VEVENT
DTSTART:20260612T150000
DTEND:20260614T150000
DTSTAMP:20260424T063543
UID:8390820a040ccf9c118c4b9df3986928@ekolist.cz/kalendar-akci
CREATED:20260416T011430
LAST-MODIFIED:20260422T154538
SUMMARY:Divine Festival 2026
DESCRIPTION:6. ročník Divine Festivalu!\nRodinné setkání, které roztančí tvou duši.\n\nKoncerty - Pohyb - Rituály - Seberozvoj - Přednášky - Setkání - Dětský koutek - Inspirace\nVíce než 50 programů v hořickém Areálu Zahrada.\n\nZáměrem Divine Festivalu je otevírat se hlubšímu vnímání sebe sama i přírody okolo nás. Provází nás přitom hodnoty a vlastnosti, které se učíme nalézat v nitru - vitalita, pohyb, regenerace, čistota, láska, podpora, komunita a udržitelnost.\nwww.divinefestival.cz/vstupenky
URL:https://ekolist.cz/cz/kalendar-akci/divine-festival-2026
LOCATION:Areál Zahrada, Klicperova (část Libonice, směr Dobrá Voda), 508 01 Hořice.
GEO:50.3636781;15.629665
CLASS:PUBLIC
STATUS:CONFIRMED
TRANSP:OPAQUE
END:VEVENT
END:VCALENDAR
