BEGIN:VCALENDAR
VERSION:2.0
PRODID:-//Ekolist.cz//NONSGML Ekolist Calendar Export 1.0//CS
CALSCALE:GREGORIAN
METHOD:PUBLISH
X-WR-CALNAME:Ekolist - Akce
X-WR-CALDESC:Akce
X-ORIGINAL-URL:https://ekolist.cz/cz/kalendar-akci
BEGIN:VEVENT
DTSTART:20260824T080000
DTEND:20260828T180000
DTSTAMP:20260424T035630
UID:daf4f2895e78983736b5a1b9598135c5@ekolist.cz/kalendar-akci
CREATED:20260420T101456
LAST-MODIFIED:20260422T154957
SUMMARY:Příměstský tábor Eko-hraní v pražských lesích - III. turnus
DESCRIPTION:Pojďte s námi objevovat a poznávat taje lesní přírody!\nBěhem tábora nahlédneme s dětmi formou her do života mravenců, hmyzu, ptáků, ale i větších zvířátek. Vyzkoušíme si badatelské pomůcky, lupy, pinzety a dalekohled. Naučíme se poznávat některé druhy stromů a květin, nebo jak se v přírodě orientovat. Zjistíme, co nám příroda nabízí a jak můžeme užívat její dary. Přírodniny využijeme i ke kreativním hrátkám. Připomeneme si, jak přírodu vnímat všemi smysly, naučíme se, jak každý z nás může přírodu chránit. Ale hlavně nás čeká táborová hra plná zážitků a zábavy, která nás provede až k pátečnímu rozloučení s odměnami na památku.\nPodíváme se společně do pěti pražských lesů či lesoparků, například do Modřanské rokle, Kunratického a Klánovického lesa, Divoké Šárky a Modřanských tůní, ale i dalších lokalit dle složení programu. 
URL:https://ekolist.cz/cz/kalendar-akci/primestsky-tabor-eko-hrani-v-prazskych-lesich-iii.turnus
LOCATION:Ostromečská 448/3, 130 00, Praha 3 - Žižkov
GEO:50.08719;14.46056
CLASS:PUBLIC
STATUS:CONFIRMED
TRANSP:OPAQUE
END:VEVENT
END:VCALENDAR
