BEGIN:VCALENDAR
VERSION:2.0
PRODID:-//Ekolist.cz//NONSGML Ekolist Calendar Export 1.0//CS
CALSCALE:GREGORIAN
METHOD:PUBLISH
X-WR-CALNAME:Ekolist - Akce
X-WR-CALDESC:Akce
X-ORIGINAL-URL:https://ekolist.cz/cz/kalendar-akci
BEGIN:VEVENT
DTSTART:20260426T150000
DTEND:20260426T180000
DTSTAMP:20260424T063543
UID:b3d55a1425f7252db4b0225259a54302@ekolist.cz/kalendar-akci
CREATED:20260422T152902
LAST-MODIFIED:20260422T153823
SUMMARY:Workshop LESNÍ MYSLI
DESCRIPTION:Workshop Lesní mysli s tématem „Najdi svůj zdroj energie“ je určený pro každého, kdo cítí potřebu zpomalit, nadechnout se a znovu objevit svůj vnitřní zdroj síly.
URL:https://ekolist.cz/cz/kalendar-akci/workshop-lesni-mysli-5
GEO:49.87232;14.27283
CLASS:PUBLIC
STATUS:CONFIRMED
TRANSP:OPAQUE
END:VEVENT
END:VCALENDAR
